BEGIN:VCALENDAR
VERSION:2.0
PRODID:-//Wyoming Native Plant Society - ECPv6.15.16//NONSGML v1.0//EN
CALSCALE:GREGORIAN
METHOD:PUBLISH
X-ORIGINAL-URL:https://www.wynps.org
X-WR-CALDESC:Events for Wyoming Native Plant Society
REFRESH-INTERVAL;VALUE=DURATION:PT1H
X-Robots-Tag:noindex
X-PUBLISHED-TTL:PT1H
BEGIN:VTIMEZONE
TZID:UTC
BEGIN:STANDARD
TZOFFSETFROM:+0000
TZOFFSETTO:+0000
TZNAME:UTC
DTSTART:20250101T000000
END:STANDARD
END:VTIMEZONE
BEGIN:VEVENT
DTSTART;VALUE=DATE:20260529
DTEND;VALUE=DATE:20260601
DTSTAMP:20260421T041607
CREATED:20260218T004557Z
LAST-MODIFIED:20260326T063405Z
UID:871-1780012800-1780271999@www.wynps.org
SUMMARY:Wyoming Native Plant Society Annual Meeting
DESCRIPTION:
URL:https://www.wynps.org/calendar/wyoming-native-plant-society-annual-meeting/
LOCATION:Flaming Gorge National Recreation Area
CATEGORIES:WYNPS Events
END:VEVENT
BEGIN:VEVENT
DTSTART;TZID=UTC:20260607T130000
DTEND;TZID=UTC:20260607T140000
DTSTAMP:20260421T041607
CREATED:20260326T063144Z
LAST-MODIFIED:20260326T063802Z
UID:967-1780837200-1780840800@www.wynps.org
SUMMARY:Camp GROW plant walk with Jackson Hole Land Trust
DESCRIPTION:June 7\, 1:00 Camp GROW plant walk with Jackson Hole Land Trust\, Green River Valley program \nDetails to come
URL:https://www.wynps.org/calendar/camp-grow-plant-walk-with-jackson-hole-land-trust-sublette-chapter/
CATEGORIES:Sublette Chapter
END:VEVENT
BEGIN:VEVENT
DTSTART;VALUE=DATE:20260613
DTEND;VALUE=DATE:20260614
DTSTAMP:20260421T041607
CREATED:20260326T063749Z
LAST-MODIFIED:20260326T063749Z
UID:969-1781308800-1781395199@www.wynps.org
SUMMARY:Conservation Field Day at Bondo
DESCRIPTION:June 13\, Conservation Field Day at Bondo \nDetails to come
URL:https://www.wynps.org/calendar/conservation-field-day-at-bondo/
CATEGORIES:Sublette Chapter
END:VEVENT
BEGIN:VEVENT
DTSTART;VALUE=DATE:20260626
DTEND;VALUE=DATE:20260629
DTSTAMP:20260421T041607
CREATED:20260408T164931Z
LAST-MODIFIED:20260408T170056Z
UID:991-1782432000-1782691199@www.wynps.org
SUMMARY:2026 Bridger Teton NF BioBlitz- Save the Date!
DESCRIPTION:June 26–28\, 2026 at New Fork Lake Group Campground. \nRegistration for Wyoming BioBlitz 2026 will open to WYNPS May 11 through June 8 and a link to registration will be posted on the WYNPS calendar at that time. \nRegistration will include the campsite and an optional catered dinner. Each hike will include botany leaders and will focus on recording plant diversity using iNaturalist in support of a preliminary checklist for the National Forest. Registration fees are TBD but likely to be $20+optional dinner add on. \nWyoming BioBlitz | Audubon \nIn 2026\, Wyoming BioBlitz will be held at New Fork Lake Group Campground near Pinedale\, Wyoming\, June 26–28. Set in the scenic Upper Green River Valley\, this campground sits along the shores of New Fork Lake with stunning views of the Wind River Range. Located roughly 10 miles north of Pinedale\, the area is rich in wildlife and plant diversity\, featuring sagebrush steppe\, riparian corridors\, wetlands\, and nearby forested habitats. Participants can expect to encounter a wide variety of species\, from migratory and resident birds to amphibians\, small mammals\, pollinators\, and native wildflowers that thrive in this dynamic landscape. The mix of water\, meadow\, and upland habitats makes this an ideal setting for community science and hands-on exploration of Wyoming’s biodiversity. \nView the New Fork Lake Group Campground information here.
URL:https://www.wynps.org/calendar/2026-bridger-teton-nf-bioblitz-save-the-date/
CATEGORIES:Community Events
END:VEVENT
BEGIN:VEVENT
DTSTART;TZID=UTC:20260707T100000
DTEND;TZID=UTC:20260707T110000
DTSTAMP:20260421T041607
CREATED:20260326T063921Z
LAST-MODIFIED:20260326T063921Z
UID:972-1783418400-1783422000@www.wynps.org
SUMMARY:Bumble Bee walk with Bridger Teton National Forest
DESCRIPTION:July 7\, 10:00 Bumble Bee walk with Bridger Teton National Forest\, Location TBD \nDetails to come
URL:https://www.wynps.org/calendar/bumble-bee-walk-with-bridger-teton-national-forest/
CATEGORIES:Sublette Chapter
END:VEVENT
BEGIN:VEVENT
DTSTART;VALUE=DATE:20260716
DTEND;VALUE=DATE:20260717
DTSTAMP:20260421T041607
CREATED:20260326T063956Z
LAST-MODIFIED:20260326T063956Z
UID:974-1784160000-1784246399@www.wynps.org
SUMMARY:Cliff Creek plant walk with Bondurant Community Club
DESCRIPTION:July 16\, Time TBD\, Cliff Creek plant walk with Bondurant Community Club \nDetails to come
URL:https://www.wynps.org/calendar/cliff-creek-plant-walk-with-bondurant-community-club/
CATEGORIES:Sublette Chapter
END:VEVENT
BEGIN:VEVENT
DTSTART;VALUE=DATE:20260730
DTEND;VALUE=DATE:20260731
DTSTAMP:20260421T041607
CREATED:20260326T064106Z
LAST-MODIFIED:20260326T064106Z
UID:976-1785369600-1785455999@www.wynps.org
SUMMARY:Sparrow Property Plant Walk with Jackson Hole Land Trust
DESCRIPTION:July 30 Time TBD\, Sparrow property plant walk at the Rim with Jackson Hole Land Trust\, Green River Valley program \nDetails to come
URL:https://www.wynps.org/calendar/sparrow-property-plant-walk-with-jackson-hole-land-trust/
CATEGORIES:Sublette Chapter
END:VEVENT
END:VCALENDAR